Package: SCnorm Version: 1.28.0 Command: /home/biocbuild/bbs-3.20-bioc/R/bin/R CMD INSTALL SCnorm StartedAt: 2025-01-30 15:43:10 -0500 (Thu, 30 Jan 2025) EndedAt: 2025-01-30 15:43:45 -0500 (Thu, 30 Jan 2025) EllapsedTime: 34.9 seconds RetCode: 0 Status: OK