Package: SCnorm Version: 1.28.0 Command: /Library/Frameworks/R.framework/Resources/bin/R CMD INSTALL SCnorm StartedAt: 2025-01-30 17:15:15 -0500 (Thu, 30 Jan 2025) EndedAt: 2025-01-30 17:15:45 -0500 (Thu, 30 Jan 2025) EllapsedTime: 30.3 seconds RetCode: 0 Status: OK