Package: SCnorm Version: 1.28.0 Command: /Library/Frameworks/R.framework/Resources/bin/R CMD check --install=check:SCnorm.install-out.txt --library=/Library/Frameworks/R.framework/Resources/library --no-vignettes --timings SCnorm_1.28.0.tar.gz StartedAt: 2025-02-01 08:30:30 -0500 (Sat, 01 Feb 2025) EndedAt: 2025-02-01 08:34:01 -0500 (Sat, 01 Feb 2025) EllapsedTime: 210.8 seconds RetCode: 0 Status: OK CheckDir: SCnorm.Rcheck Warnings: 0