Package: SCnorm Version: 1.28.0 Command: /Library/Frameworks/R.framework/Resources/bin/R CMD build --keep-empty-dirs --no-resave-data SCnorm StartedAt: 2025-01-31 07:27:45 -0500 (Fri, 31 Jan 2025) EndedAt: 2025-01-31 07:29:58 -0500 (Fri, 31 Jan 2025) EllapsedTime: 132.9 seconds RetCode: 0 Status: OK PackageFile: SCnorm_1.28.0.tar.gz PackageFileSize: 2.974 MiB