Package: SCAN.UPC Version: 2.48.0 Command: F:\biocbuild\bbs-3.20-bioc\R\bin\R.exe CMD check --no-multiarch --install=check:SCAN.UPC.install-out.txt --library=F:\biocbuild\bbs-3.20-bioc\R\library --no-vignettes --timings SCAN.UPC_2.48.0.tar.gz StartedAt: 2025-01-31 06:03:57 -0500 (Fri, 31 Jan 2025) EndedAt: 2025-01-31 06:08:13 -0500 (Fri, 31 Jan 2025) EllapsedTime: 256.2 seconds RetCode: 0 Status: OK CheckDir: SCAN.UPC.Rcheck Warnings: 0