Package: SCAN.UPC Version: 2.48.0 Command: /home/biocbuild/bbs-3.20-bioc/R/bin/R CMD check --install=check:SCAN.UPC.install-out.txt --library=/home/biocbuild/bbs-3.20-bioc/R/site-library --timings SCAN.UPC_2.48.0.tar.gz StartedAt: 2025-01-31 01:55:46 -0500 (Fri, 31 Jan 2025) EndedAt: 2025-01-31 01:59:27 -0500 (Fri, 31 Jan 2025) EllapsedTime: 220.3 seconds RetCode: 0 Status: OK CheckDir: SCAN.UPC.Rcheck Warnings: 0