Package: SCAN.UPC Version: 2.48.0 Command: /home/biocbuild/bbs-3.20-bioc/R/bin/R CMD build --keep-empty-dirs --no-resave-data --md5 SCAN.UPC StartedAt: 2025-01-30 18:58:06 -0500 (Thu, 30 Jan 2025) EndedAt: 2025-01-30 18:58:42 -0500 (Thu, 30 Jan 2025) EllapsedTime: 36.0 seconds RetCode: 0 Status: OK PackageFile: SCAN.UPC_2.48.0.tar.gz PackageFileSize: 690.7 KiB