Package: SCAN.UPC Version: 2.48.0 Command: rm -rf SCAN.UPC.buildbin-libdir && mkdir SCAN.UPC.buildbin-libdir && /Users/biocbuild/BBS/utils/build-universal.sh SCAN.UPC_2.48.0.tar.gz /Library/Frameworks/R.framework/Resources/bin/R SCAN.UPC.buildbin-libdir StartedAt: 2025-01-31 13:36:54 -0500 (Fri, 31 Jan 2025) EndedAt: 2025-01-31 13:38:08 -0500 (Fri, 31 Jan 2025) EllapsedTime: 73.5 seconds RetCode: 0 Status: OK PackageFile: SCAN.UPC_2.48.0.tgz PackageFileSize: 553.4 KiB