Package: SBMLR Version: 2.2.0 Command: rm -rf SBMLR.buildbin-libdir && mkdir SBMLR.buildbin-libdir && F:\biocbuild\bbs-3.20-bioc\R\bin\R.exe CMD INSTALL --build --library=SBMLR.buildbin-libdir SBMLR_2.2.0.tar.gz StartedAt: 2025-01-31 09:31:40 -0500 (Fri, 31 Jan 2025) EndedAt: 2025-01-31 09:31:56 -0500 (Fri, 31 Jan 2025) EllapsedTime: 15.9 seconds RetCode: 0 Status: OK PackageFile: SBMLR_2.2.0.zip PackageFileSize: 230.8 KiB