Package: S4Vectors Version: 0.44.0 Command: /home/biocbuild/R/R/bin/R CMD check --install=check:S4Vectors.install-out.txt --library=/home/biocbuild/R/R/site-library --no-vignettes --timings S4Vectors_0.44.0.tar.gz StartedAt: 2025-01-31 09:59:49 -0000 (Fri, 31 Jan 2025) EndedAt: 2025-01-31 10:01:37 -0000 (Fri, 31 Jan 2025) EllapsedTime: 108.0 seconds RetCode: 0 Status: WARNINGS CheckDir: S4Vectors.Rcheck Warnings: 2