Package: S4Vectors Version: 0.44.0 Command: rm -rf S4Vectors.buildbin-libdir && mkdir S4Vectors.buildbin-libdir && F:\biocbuild\bbs-3.20-bioc\R\bin\R.exe CMD INSTALL --build --library=S4Vectors.buildbin-libdir S4Vectors_0.44.0.tar.gz StartedAt: 2025-01-31 09:31:04 -0500 (Fri, 31 Jan 2025) EndedAt: 2025-01-31 09:35:12 -0500 (Fri, 31 Jan 2025) EllapsedTime: 248.4 seconds RetCode: 0 Status: OK PackageFile: S4Vectors_0.44.0.zip PackageFileSize: 2.28 MiB