Package: S4Arrays Version: 1.6.0 Command: /home/biocbuild/R/R/bin/R CMD check --install=check:S4Arrays.install-out.txt --library=/home/biocbuild/R/R/site-library --no-vignettes --timings S4Arrays_1.6.0.tar.gz StartedAt: 2025-01-31 09:59:31 -0000 (Fri, 31 Jan 2025) EndedAt: 2025-01-31 10:02:01 -0000 (Fri, 31 Jan 2025) EllapsedTime: 150.3 seconds RetCode: 0 Status: OK CheckDir: S4Arrays.Rcheck Warnings: 0