Package: Rsubread Version: 2.20.0 Command: /Library/Frameworks/R.framework/Resources/bin/R CMD build --keep-empty-dirs --no-resave-data Rsubread StartedAt: 2025-01-30 22:25:04 -0500 (Thu, 30 Jan 2025) EndedAt: 2025-01-30 22:48:11 -0500 (Thu, 30 Jan 2025) EllapsedTime: 1386.5 seconds RetCode: 0 Status: OK PackageFile: Rsubread_2.20.0.tar.gz PackageFileSize: 12.92 MiB