Package: Rsubread Version: 2.20.0 Command: /Library/Frameworks/R.framework/Resources/bin/R CMD check --install=check:Rsubread.install-out.txt --library=/Library/Frameworks/R.framework/Resources/library --no-vignettes --timings Rsubread_2.20.0.tar.gz StartedAt: 2024-11-09 11:58:24 -0500 (Sat, 09 Nov 2024) EndedAt: 2024-11-09 12:06:56 -0500 (Sat, 09 Nov 2024) EllapsedTime: 512.0 seconds RetCode: 0 Status: OK CheckDir: Rsubread.Rcheck Warnings: 0