Package: RolDE Version: 1.10.0 Command: F:\biocbuild\bbs-3.20-bioc\R\bin\R.exe CMD INSTALL RolDE StartedAt: 2025-01-30 15:55:17 -0500 (Thu, 30 Jan 2025) EndedAt: 2025-01-30 15:55:48 -0500 (Thu, 30 Jan 2025) EllapsedTime: 30.2 seconds RetCode: 0 Status: OK