Package: RolDE Version: 1.10.0 Command: rm -rf RolDE.buildbin-libdir && mkdir RolDE.buildbin-libdir && F:\biocbuild\bbs-3.20-bioc\R\bin\R.exe CMD INSTALL --build --library=RolDE.buildbin-libdir RolDE_1.10.0.tar.gz StartedAt: 2025-01-31 09:28:49 -0500 (Fri, 31 Jan 2025) EndedAt: 2025-01-31 09:29:18 -0500 (Fri, 31 Jan 2025) EllapsedTime: 28.9 seconds RetCode: 0 Status: OK PackageFile: RolDE_1.10.0.zip PackageFileSize: 1.359 MiB