Package: RolDE Version: 1.10.0 Command: rm -rf RolDE.buildbin-libdir && mkdir RolDE.buildbin-libdir && /Users/biocbuild/BBS/utils/build-universal.sh RolDE_1.10.0.tar.gz /Library/Frameworks/R.framework/Resources/bin/R RolDE.buildbin-libdir StartedAt: 2025-02-01 16:36:35 -0500 (Sat, 01 Feb 2025) EndedAt: 2025-02-01 16:37:03 -0500 (Sat, 01 Feb 2025) EllapsedTime: 28.2 seconds RetCode: 0 Status: OK PackageFile: RolDE_1.10.0.tgz PackageFileSize: 1.384 MiB