Package: RnBeads Version: 2.24.0 Command: /home/biocbuild/bbs-3.20-bioc/R/bin/R CMD build --keep-empty-dirs --no-resave-data --md5 RnBeads StartedAt: 2025-01-30 18:53:18 -0500 (Thu, 30 Jan 2025) EndedAt: 2025-01-30 18:55:26 -0500 (Thu, 30 Jan 2025) EllapsedTime: 128.1 seconds RetCode: 0 Status: OK PackageFile: RnBeads_2.24.0.tar.gz PackageFileSize: 7.581 MiB