Package: Rmmquant Version: 1.24.0 Command: /home/biocbuild/R/R/bin/R CMD check --install=check:Rmmquant.install-out.txt --library=/home/biocbuild/R/R/site-library --no-vignettes --timings Rmmquant_1.24.0.tar.gz StartedAt: 2025-01-31 09:47:03 -0000 (Fri, 31 Jan 2025) EndedAt: 2025-01-31 09:52:36 -0000 (Fri, 31 Jan 2025) EllapsedTime: 333.3 seconds RetCode: 0 Status: OK CheckDir: Rmmquant.Rcheck Warnings: 0