Package: Risa Version: 1.48.1 Command: /home/biocbuild/R/R/bin/R CMD check --install=check:Risa.install-out.txt --library=/home/biocbuild/R/R/site-library --no-vignettes --timings Risa_1.48.1.tar.gz StartedAt: 2024-11-20 11:42:33 -0000 (Wed, 20 Nov 2024) EndedAt: 2024-11-20 11:49:06 -0000 (Wed, 20 Nov 2024) EllapsedTime: 392.7 seconds RetCode: 1 Status: ERROR CheckDir: Risa.Rcheck Warnings: NA