Package: RiboProfiling Version: 1.36.0 Command: /home/biocbuild/bbs-3.20-bioc/R/bin/R CMD INSTALL RiboProfiling StartedAt: 2025-01-30 15:36:41 -0500 (Thu, 30 Jan 2025) EndedAt: 2025-01-30 15:37:48 -0500 (Thu, 30 Jan 2025) EllapsedTime: 67.1 seconds RetCode: 0 Status: OK