Package: RiboProfiling Version: 1.36.0 Command: /Library/Frameworks/R.framework/Resources/bin/R CMD check --install=check:RiboProfiling.install-out.txt --library=/Library/Frameworks/R.framework/Resources/library --no-vignettes --timings RiboProfiling_1.36.0.tar.gz StartedAt: 2025-02-01 06:45:18 -0500 (Sat, 01 Feb 2025) EndedAt: 2025-02-01 06:57:28 -0500 (Sat, 01 Feb 2025) EllapsedTime: 730.5 seconds RetCode: 0 Status: WARNINGS CheckDir: RiboProfiling.Rcheck Warnings: 1