Package: RiboProfiling Version: 1.36.0 Command: rm -rf RiboProfiling.buildbin-libdir && mkdir RiboProfiling.buildbin-libdir && /Users/biocbuild/BBS/utils/build-universal.sh RiboProfiling_1.36.0.tar.gz /Library/Frameworks/R.framework/Resources/bin/R RiboProfiling.buildbin-libdir StartedAt: 2025-02-01 16:31:25 -0500 (Sat, 01 Feb 2025) EndedAt: 2025-02-01 16:32:31 -0500 (Sat, 01 Feb 2025) EllapsedTime: 66.4 seconds RetCode: 0 Status: OK PackageFile: RiboProfiling_1.36.0.tgz PackageFileSize: 4.747 MiB