Package: RiboDiPA Version: 1.14.0 Command: chmod a+r RiboDiPA -R && F:\biocbuild\bbs-3.20-bioc\R\bin\R.exe CMD build --keep-empty-dirs --no-resave-data RiboDiPA StartedAt: 2025-01-30 21:25:16 -0500 (Thu, 30 Jan 2025) EndedAt: 2025-01-30 21:32:48 -0500 (Thu, 30 Jan 2025) EllapsedTime: 452.1 seconds RetCode: 0 Status: OK PackageFile: RiboDiPA_1.14.0.tar.gz PackageFileSize: 1.572 MiB