Package: RiboDiPA Version: 1.14.0 Command: rm -rf RiboDiPA.buildbin-libdir && mkdir RiboDiPA.buildbin-libdir && F:\biocbuild\bbs-3.20-bioc\R\bin\R.exe CMD INSTALL --build --library=RiboDiPA.buildbin-libdir RiboDiPA_1.14.0.tar.gz StartedAt: 2025-01-31 09:26:43 -0500 (Fri, 31 Jan 2025) EndedAt: 2025-01-31 09:27:50 -0500 (Fri, 31 Jan 2025) EllapsedTime: 67.0 seconds RetCode: 0 Status: OK PackageFile: RiboDiPA_1.14.0.zip PackageFileSize: 1.598 MiB