Package: RiboDiPA Version: 1.14.0 Command: /home/biocbuild/bbs-3.20-bioc/R/bin/R CMD build --keep-empty-dirs --no-resave-data --md5 RiboDiPA StartedAt: 2025-01-30 18:50:00 -0500 (Thu, 30 Jan 2025) EndedAt: 2025-01-30 18:55:43 -0500 (Thu, 30 Jan 2025) EllapsedTime: 343.4 seconds RetCode: 0 Status: OK PackageFile: RiboDiPA_1.14.0.tar.gz PackageFileSize: 1.756 MiB