Package: RiboDiPA Version: 1.14.0 Command: /Library/Frameworks/R.framework/Resources/bin/R CMD INSTALL RiboDiPA StartedAt: 2025-01-30 16:26:16 -0500 (Thu, 30 Jan 2025) EndedAt: 2025-01-30 16:27:15 -0500 (Thu, 30 Jan 2025) EllapsedTime: 59.3 seconds RetCode: 0 Status: OK