Package: RiboDiPA Version: 1.14.0 Command: /Library/Frameworks/R.framework/Resources/bin/R CMD check --install=check:RiboDiPA.install-out.txt --library=/Library/Frameworks/R.framework/Resources/library --no-vignettes --timings RiboDiPA_1.14.0.tar.gz StartedAt: 2025-02-01 06:44:02 -0500 (Sat, 01 Feb 2025) EndedAt: 2025-02-01 06:56:22 -0500 (Sat, 01 Feb 2025) EllapsedTime: 740.8 seconds RetCode: 0 Status: OK CheckDir: RiboDiPA.Rcheck Warnings: 0