Package: Rhdf5lib Version: 1.28.0 Command: /home/biocbuild/bbs-3.20-bioc/R/bin/R CMD check --install=check:Rhdf5lib.install-out.txt --library=/home/biocbuild/bbs-3.20-bioc/R/site-library --timings Rhdf5lib_1.28.0.tar.gz StartedAt: 2025-01-31 01:36:49 -0500 (Fri, 31 Jan 2025) EndedAt: 2025-01-31 01:37:07 -0500 (Fri, 31 Jan 2025) EllapsedTime: 18.0 seconds RetCode: 0 Status: WARNINGS CheckDir: Rhdf5lib.Rcheck Warnings: 1