Package: Rhdf5lib Version: 1.28.0 Command: /Library/Frameworks/R.framework/Resources/bin/R CMD check --install=check:Rhdf5lib.install-out.txt --library=/Library/Frameworks/R.framework/Resources/library --no-vignettes --timings Rhdf5lib_1.28.0.tar.gz StartedAt: 2024-11-20 01:53:32 -0500 (Wed, 20 Nov 2024) EndedAt: 2024-11-20 01:57:39 -0500 (Wed, 20 Nov 2024) EllapsedTime: 246.3 seconds RetCode: 0 Status: WARNINGS CheckDir: Rhdf5lib.Rcheck Warnings: 1