Package: RgnTX Version: 1.8.0 Command: /home/biocbuild/R/R/bin/R CMD INSTALL RgnTX StartedAt: 2025-01-30 20:27:56 -0000 (Thu, 30 Jan 2025) EndedAt: 2025-01-30 20:28:42 -0000 (Thu, 30 Jan 2025) EllapsedTime: 46.1 seconds RetCode: 0 Status: OK