Package: RgnTX Version: 1.8.0 Command: /home/biocbuild/R/R/bin/R CMD build --keep-empty-dirs --no-resave-data RgnTX StartedAt: 2025-01-31 02:08:24 -0000 (Fri, 31 Jan 2025) EndedAt: 2025-01-31 02:11:08 -0000 (Fri, 31 Jan 2025) EllapsedTime: 164.1 seconds RetCode: 0 Status: OK PackageFile: RgnTX_1.8.0.tar.gz PackageFileSize: 3.775 MiB