Package: RgnTX Version: 1.8.0 Command: F:\biocbuild\bbs-3.20-bioc\R\bin\R.exe CMD check --no-multiarch --install=check:RgnTX.install-out.txt --library=F:\biocbuild\bbs-3.20-bioc\R\library --no-vignettes --timings RgnTX_1.8.0.tar.gz StartedAt: 2025-01-31 05:41:31 -0500 (Fri, 31 Jan 2025) EndedAt: 2025-01-31 05:50:52 -0500 (Fri, 31 Jan 2025) EllapsedTime: 560.9 seconds RetCode: 0 Status: OK CheckDir: RgnTX.Rcheck Warnings: 0