Package: RgnTX Version: 1.8.0 Command: rm -rf RgnTX.buildbin-libdir && mkdir RgnTX.buildbin-libdir && F:\biocbuild\bbs-3.20-bioc\R\bin\R.exe CMD INSTALL --build --library=RgnTX.buildbin-libdir RgnTX_1.8.0.tar.gz StartedAt: 2025-01-31 09:26:01 -0500 (Fri, 31 Jan 2025) EndedAt: 2025-01-31 09:26:54 -0500 (Fri, 31 Jan 2025) EllapsedTime: 52.3 seconds RetCode: 0 Status: OK PackageFile: RgnTX_1.8.0.zip PackageFileSize: 2.471 MiB