Package: RegionalST Version: 1.4.2 Command: /home/biocbuild/R/R/bin/R CMD build --keep-empty-dirs --no-resave-data RegionalST StartedAt: 2025-01-31 02:05:09 -0000 (Fri, 31 Jan 2025) EndedAt: 2025-01-31 02:07:28 -0000 (Fri, 31 Jan 2025) EllapsedTime: 139.1 seconds RetCode: 0 Status: OK PackageFile: RegionalST_1.4.2.tar.gz PackageFileSize: 2.573 MiB