Package: ReactomeGSA Version: 1.20.0 Command: /home/biocbuild/R/R/bin/R CMD check --install=check:ReactomeGSA.install-out.txt --library=/home/biocbuild/R/R/site-library --no-vignettes --timings ReactomeGSA_1.20.0.tar.gz StartedAt: 2025-01-31 09:34:07 -0000 (Fri, 31 Jan 2025) EndedAt: 2025-01-31 10:14:08 -0000 (Fri, 31 Jan 2025) EllapsedTime: 2400.3 seconds RetCode: None Status: TIMEOUT CheckDir: ReactomeGSA.Rcheck Warnings: NA