Package: ReactomeContentService4R Version: 1.14.0 Command: /home/biocbuild/bbs-3.20-bioc/R/bin/R CMD INSTALL ReactomeContentService4R StartedAt: 2024-11-19 15:35:45 -0500 (Tue, 19 Nov 2024) EndedAt: 2024-11-19 15:35:48 -0500 (Tue, 19 Nov 2024) EllapsedTime: 3.0 seconds RetCode: 0 Status: OK