Package: ReactomeContentService4R Version: 1.14.0 Command: F:\biocbuild\bbs-3.20-bioc\R\bin\R.exe CMD check --no-multiarch --install=check:ReactomeContentService4R.install-out.txt --library=F:\biocbuild\bbs-3.20-bioc\R\library --no-vignettes --timings ReactomeContentService4R_1.14.0.tar.gz StartedAt: 2025-01-31 05:32:57 -0500 (Fri, 31 Jan 2025) EndedAt: 2025-01-31 05:33:36 -0500 (Fri, 31 Jan 2025) EllapsedTime: 39.1 seconds RetCode: 1 Status: ERROR CheckDir: ReactomeContentService4R.Rcheck Warnings: NA