Package: ReactomeContentService4R Version: 1.14.0 Command: rm -rf ReactomeContentService4R.buildbin-libdir && mkdir ReactomeContentService4R.buildbin-libdir && F:\biocbuild\bbs-3.20-bioc\R\bin\R.exe CMD INSTALL --build --library=ReactomeContentService4R.buildbin-libdir ReactomeContentService4R_1.14.0.tar.gz StartedAt: 2025-01-31 09:23:46 -0500 (Fri, 31 Jan 2025) EndedAt: 2025-01-31 09:27:28 -0500 (Fri, 31 Jan 2025) EllapsedTime: 222.2 seconds RetCode: 0 Status: OK PackageFile: ReactomeContentService4R_1.14.0.zip PackageFileSize: 1.161 MiB