Package: Rcwl Version: 1.22.0 Command: /home/biocbuild/R/R/bin/R CMD INSTALL Rcwl StartedAt: 2025-01-30 20:42:59 -0000 (Thu, 30 Jan 2025) EndedAt: 2025-01-30 20:43:14 -0000 (Thu, 30 Jan 2025) EllapsedTime: 15.2 seconds RetCode: 0 Status: OK