Package: Rcpi Version: 1.42.0 Command: F:\biocbuild\bbs-3.20-bioc\R\bin\R.exe CMD check --no-multiarch --install=check:Rcpi.install-out.txt --library=F:\biocbuild\bbs-3.20-bioc\R\library --no-vignettes --timings Rcpi_1.42.0.tar.gz StartedAt: 2025-01-31 05:32:05 -0500 (Fri, 31 Jan 2025) EndedAt: 2025-01-31 05:35:05 -0500 (Fri, 31 Jan 2025) EllapsedTime: 180.2 seconds RetCode: 0 Status: OK CheckDir: Rcpi.Rcheck Warnings: 0