Package: Rcpi Version: 1.42.0 Command: /Library/Frameworks/R.framework/Resources/bin/R CMD build --keep-empty-dirs --no-resave-data Rcpi StartedAt: 2025-01-30 22:08:09 -0500 (Thu, 30 Jan 2025) EndedAt: 2025-01-30 22:09:03 -0500 (Thu, 30 Jan 2025) EllapsedTime: 54.2 seconds RetCode: 0 Status: OK PackageFile: Rcpi_1.42.0.tar.gz PackageFileSize: 2.97 MiB