Package: Rcpi Version: 1.42.0 Command: /Library/Frameworks/R.framework/Resources/bin/R CMD INSTALL Rcpi StartedAt: 2025-01-30 16:22:25 -0500 (Thu, 30 Jan 2025) EndedAt: 2025-01-30 16:22:44 -0500 (Thu, 30 Jan 2025) EllapsedTime: 19.1 seconds RetCode: 0 Status: OK