Package: Rcpi Version: 1.42.0 Command: rm -rf Rcpi.buildbin-libdir && mkdir Rcpi.buildbin-libdir && /Users/biocbuild/BBS/utils/build-universal.sh Rcpi_1.42.0.tar.gz /Library/Frameworks/R.framework/Resources/bin/R Rcpi.buildbin-libdir StartedAt: 2025-02-01 16:23:59 -0500 (Sat, 01 Feb 2025) EndedAt: 2025-02-01 16:24:22 -0500 (Sat, 01 Feb 2025) EllapsedTime: 22.5 seconds RetCode: 0 Status: OK PackageFile: Rcpi_1.42.0.tgz PackageFileSize: 2.576 MiB