Package: Rbwa Version: 1.10.0 Command: /Library/Frameworks/R.framework/Resources/bin/R CMD INSTALL Rbwa StartedAt: 2025-01-30 15:06:31 -0500 (Thu, 30 Jan 2025) EndedAt: 2025-01-30 15:06:46 -0500 (Thu, 30 Jan 2025) EllapsedTime: 15.0 seconds RetCode: 0 Status: OK