Package: Rbwa Version: 1.10.0 Command: rm -rf Rbwa.buildbin-libdir && mkdir Rbwa.buildbin-libdir && /Users/biocbuild/BBS/utils/build-universal.sh Rbwa_1.10.0.tar.gz /Library/Frameworks/R.framework/Resources/bin/R Rbwa.buildbin-libdir StartedAt: 2025-02-01 16:22:57 -0500 (Sat, 01 Feb 2025) EndedAt: 2025-02-01 16:23:15 -0500 (Sat, 01 Feb 2025) EllapsedTime: 18.1 seconds RetCode: 0 Status: OK PackageFile: Rbwa_1.10.0.tgz PackageFileSize: 633.5 KiB