Package: Rbec Version: 1.14.0 Command: chmod a+r Rbec -R && F:\biocbuild\bbs-3.20-bioc\R\bin\R.exe CMD build --keep-empty-dirs --no-resave-data Rbec StartedAt: 2025-01-30 21:15:36 -0500 (Thu, 30 Jan 2025) EndedAt: 2025-01-30 21:17:12 -0500 (Thu, 30 Jan 2025) EllapsedTime: 96.4 seconds RetCode: 0 Status: OK PackageFile: Rbec_1.14.0.tar.gz PackageFileSize: 1.467 MiB