Package: Rbec Version: 1.14.0 Command: /home/biocbuild/bbs-3.20-bioc/R/bin/R CMD INSTALL Rbec StartedAt: 2025-01-30 15:27:21 -0500 (Thu, 30 Jan 2025) EndedAt: 2025-01-30 15:28:00 -0500 (Thu, 30 Jan 2025) EllapsedTime: 39.2 seconds RetCode: 0 Status: OK