Package: Rbec Version: 1.14.0 Command: /home/biocbuild/bbs-3.20-bioc/R/bin/R CMD check --install=check:Rbec.install-out.txt --library=/home/biocbuild/bbs-3.20-bioc/R/site-library --timings Rbec_1.14.0.tar.gz StartedAt: 2025-01-31 01:24:24 -0500 (Fri, 31 Jan 2025) EndedAt: 2025-01-31 01:28:43 -0500 (Fri, 31 Jan 2025) EllapsedTime: 258.4 seconds RetCode: 0 Status: OK CheckDir: Rbec.Rcheck Warnings: 0