Package: Rbec Version: 1.14.0 Command: /Library/Frameworks/R.framework/Resources/bin/R CMD INSTALL Rbec StartedAt: 2025-01-30 15:49:44 -0500 (Thu, 30 Jan 2025) EndedAt: 2025-01-30 15:51:09 -0500 (Thu, 30 Jan 2025) EllapsedTime: 84.3 seconds RetCode: 0 Status: OK